Workbook

Sheet SHEET-1
I2: [ 1 ]
A5: MADHYA GUJARAT VIJ COMPANY LIMITED
A8: I - KEY PARAMETERS
A10: POWER SUPPLY POSITION
D12: Current Year | F12: Previous Year | H12: % Change
D13: Quarterly | E13: Cummulative | F13: Quarterly | G13: Cummulative | H13: Quarterly | I13: Cummulative
D14: April, 2020 to June, 2020 | F14: April, 2019 to June, 2019
A16: I | B16: POWER PURCHASE
A17: 1 | B17: Purchase From CPPS/Wind Farms/Solar | C17: MUS | D17: =+E17 -> 2977.215 | E17: 2977.215 | F17: 3572.615 | G17: =+F17 -> 3572.615 | H17: =(D17-F17)/F17 -> -0.16665664 | I17: =(E17-G17)/G17 -> -0.16665664
A18: 2 | B18: Purchase from GUVNL [Net of Trading Credit & UI] | C18: MUS
A19: 3 | B19: Purchase from Central Sector | C19: MUS
B20: [a] Share | C20: MUS
B21: [b] Actual Purchase | C21: MUS
B22: Total Purchase of Power | C22: MUS | D22: =+D17+D20+D21 -> 2977.215 | E22: =+E17+E20+E21 -> 2977.215 | F22: =+F17+F20+F21 -> 3572.615 | G22: =+G17+G20+G21 -> 3572.615 | H22: =(D22-F22)/F22 -> -0.16665664 | I22: =(E22-G22)/G22 -> -0.16665664
A24: II | B24: ENERGY BALANCE SHEET
A25: 1 | B25: Total Generation + Purchase of Power | C25: MUS | D25: =+D17 -> 2977.215 | E25: =+E22 -> 2977.215 | F25: =+F17 -> 3572.615 | G25: =+F25 -> 3572.615 | H25: =(D25-F25)/F25 -> -0.16665664 | I25: =(E25-G25)/G25 -> -0.16665664
A26: 2 | B26: Units Sent Out | C26: MUS | D26: =+D25 -> 2977.215 | E26: =+E25 -> 2977.215 | F26: =+F25 -> 3572.615 | G26: =+G25 -> 3572.615 | H26: =(D26-F26)/F26 -> -0.16665664 | I26: =(E26-G26)/G26 -> -0.16665664
A27: 3 | B27: Metered + Estimated Unmetered & Unbilled Sales | C27: MUS | D27: =+E27 -> 2493.527 | E27: 2493.527 | F27: 2911.87 | G27: =+F27 -> 2911.87 | H27: =(D27-F27)/F27 -> -0.14366816 | I27: =(E27-G27)/G27 -> -0.14366816
A28: 4 | B28: T&D Losses [2-3] | C28: MUS | D28: =+D26-D27 -> 483.688 | E28: =+E26-E27 -> 483.688 | F28: =+F26-F27 -> 660.745 | G28: =+G26-G27 -> 660.745 | H28: =(D28-F28)/F28 -> -0.26796571 | I28: =(E28-G28)/G28 -> -0.26796571
A29: 5 | B29: T & D Loss [4] / [2] * 100 | C29: % | D29: =+(D28/D26) -> 0.16246324 | E29: =+(E28/E26) -> 0.16246324 | F29: =+(F28/F26) -> 0.18494716 | G29: =+(G28/G26) -> 0.18494716 | H29: =D29-F29 -> -0.022483919 | I29: =E29-G29 -> -0.022483919
A31: III | B31: SALES, BILLING AND REALISATION
A32: 1 | B32: Billed [Metered + Unmetered] with E. D. | C32: Rs. In Crores | D32: =+'SHEET-5'!D25+37.1+15.47+85.46 -> 1635.3691 | E32: =+D32 -> 1635.3691 | F32: =+'SHEET-5'!F25+63.46+67.51+76.43 -> 1984.52 | G32: =+F32 -> 1984.52 | H32: =(D32-F32)/F32 -> -0.1759372 | I32: =(E32-G32)/G32 -> -0.1759372
A33: 2 | B33: Billed - Theft Assessment
A34: 3 | B34: Total Billed [1 + 2] | C34: Rs. In Crores | D34: =+D32 -> 1635.3691 | E34: =+E32 -> 1635.3691 | F34: =+F32 -> 1984.52 | G34: =+F34 -> 1984.52 | H34: =(D34-F34)/F34 -> -0.1759372 | I34: =(E34-G34)/G34 -> -0.1759372
A35: 4 | B35: Amount realised [Metered + Unmetered] with E. D. | C35: Rs. In Crores | D35: 1407.64 | E35: =+D35 -> 1407.64 | F35: 1913.199 | G35: =+F35 -> 1913.199 | H35: =(D35-F35)/F35 -> -0.26424799 | I35: =(E35-G35)/G35 -> -0.26424799
A36: 5 | B36: Amount realised against Theft of Energy
A37: 6 | B37: Total Amount realised [4 + 5] | C37: Rs. In Crores | D37: =+D35 -> 1407.64 | E37: =+E35 -> 1407.64 | F37: =+F35 -> 1913.199 | G37: =+G35 -> 1913.199 | H37: =(D37-F37)/F37 -> -0.26424799 | I37: =(E37-G37)/G37 -> -0.26424799
A38: 7 | B38: Amount realised as % of amount billed [6] / [3] | C38: % | D38: =+D37/D34 -> 0.86074758 | E38: =+E37/E34 -> 0.86074758 | F38: =+F37/F34 -> 0.96406132 | G38: =+G37/G34 -> 0.96406132 | H38: =D38-F38 -> -0.10331374 | I38: =H38 -> -0.10331374

Sheet SHEET-2
I2: [ 2 ]
A5: MADHYA GUJARAT VIJ COMPANY LIMITED
A8: II - KEY PARAMETERS
A10: COST OF SUPPLY - 2
D12: Current Year | F12: Previous Year | H12: % Change
D13: Quarterly | E13: Cummulative | F13: Quarterly | G13: Cummulative | H13: Quarterly | I13: Cummulative
D14: =+'SHEET-1'!D14:E14 -> April, 2020 to June, 2020 | F14: =+'SHEET-1'!F14:G14 -> April, 2019 to June, 2019
A15: I | B15: COST OF SUPPLY
A16: 1 | B16: Average Cost of Purchase of Power [Net] | C16: Rs. /KWH | D16: =ROUND(+('SHEET-3'!D15/'SHEET-1'!D22)*10,2) -> 4.56 | E16: =ROUND(+('SHEET-3'!E15/'SHEET-1'!E22)*10,2) -> 4.56 | F16: =ROUND(+('SHEET-3'!F15/'SHEET-1'!F22)*10,2) -> 4.56 | G16: =ROUND(+('SHEET-3'!G15/'SHEET-1'!G22)*10,2) -> 4.56 | H16: =(D16-F16)/F16 -> 0 | I16: =(E16-G16)/G16 -> 0
A17: 2 | B17: Cost at Bus Bar | C17: Rs. /KWH
A18: 3 | B18: Costo of Supply at EHT [at 66 KV] | C18: Rs. /KWH
A19: 4 | B19: Cost of Supply at LT [at 11 KV] | C19: Rs. /KWH
A20: 5 | B20: Cost of Supply at HT [at 11 KV] | C20: Rs. /KWH
A21: 6 | B21: Average Cost of Supply per unit of sales | C21: Rs. /KWH | D21: =ROUND(+('SHEET-3'!D23/'SHEET-1'!D27)*10,2) -> 6.43 | E21: =ROUND(+('SHEET-3'!E23/'SHEET-1'!E27)*10,2) -> 6.43 | F21: =ROUND(+('SHEET-3'!F23/'SHEET-1'!F27)*10,2) -> 6.35 | G21: =ROUND(+('SHEET-3'!G23/'SHEET-1'!G27)*10,2) -> 6.35 | H21: =(D21-F21)/F21 -> 0.012598425 | I21: =(E21-G21)/G21 -> 0.012598425
A23: II | B23: SALES REALISATION WITHOUT E. D.
A24: 1 | B24: H. T. | C24: Rs. /KWH | D24: =ROUND(+'SHEET-5'!D32/100,2) -> 7.57 | E24: =ROUND(+'SHEET-5'!E32/100,2) -> 7.57 | F24: =ROUND(+'SHEET-5'!F32/100,2) -> 7.04 | G24: =ROUND(+'SHEET-5'!G32/100,2) -> 7.04 | H24: =(D24-F24)/F24 -> 0.075284091 | I24: =(E24-G24)/G24 -> 0.075284091
A25: 2 | B25: L. T. | C25: Rs. /KWH | D25: =ROUND(+'SHEET-5'!D39/100,2) -> 5.39 | E25: =ROUND(+'SHEET-5'!E39/100,2) -> 5.39 | F25: =ROUND(+'SHEET-5'!F39/100,2) -> 5.58 | G25: =ROUND(+'SHEET-5'!G39/100,2) -> 5.58 | H25: =(D25-F25)/F25 -> -0.034050179 | I25: =(E25-G25)/G25 -> -0.034050179
A26: 3 | B26: Average Sales Realisation | C26: Rs. /KWH | D26: =ROUND(+'SHEET-5'!D40/100,2) -> 6 | E26: =ROUND(+'SHEET-5'!E40/100,2) -> 6 | F26: =ROUND(+'SHEET-5'!F40/100,2) -> 6.1 | G26: =ROUND(+'SHEET-5'!G40/100,2) -> 6.1 | H26: =(D26-F26)/F26 -> -0.016393443 | I26: =(E26-G26)/G26 -> -0.016393443
B28: Special Observation on above points
A35: NPT/GERC REPORT/APRIL, 2017 TO JUNE'2017

Sheet SHEET-3
I2: [ 3 ]
A5: MADHYA GUJARAT VIJ COMPANY LIMITED
A8: I - KEY PARAMETERS
A10: FINANCIAL DATA - 3
D12: Current Year [Provisional] | F12: Previous Year | H12: % Change
D13: Quarterly | E13: Cummulative | F13: Quarterly | G13: Cummulative | H13: Quarterly | I13: Cummulative
D14: =+'SHEET-2'!D14:E14 -> April, 2020 to June, 2020 | F14: =+'SHEET-2'!F14:G14 -> April, 2019 to June, 2019
A15: 1 | B15: Cost of Power Purchase [Net] | C15: Rs. In Crore | D15: 1356.87 | E15: =+D15 -> 1356.87 | F15: 1627.9 | G15: =+F15 -> 1627.9 | H15: =(D15-F15)/F15 -> -0.16649057 | I15: =(E15-G15)/G15 -> -0.16649057
A16: 2 | B16: Employees Cost | C16: Rs. In Crore | D16: =+'SHEET-7'!C23 -> 121.8967 | E16: =+D16 -> 121.8967 | F16: =+'SHEET-7'!D23 -> 111.67 | G16: =+F16 -> 111.67 | H16: =(D16-F16)/F16 -> 0.091579654 | I16: =(E16-G16)/G16 -> 0.091579654
A17: 3 | B17: Interest | C17: Rs. In Crore | D17: =+'SHEET-7'!C29 -> 16.3957 | E17: =+D17 -> 16.3957 | F17: =+'SHEET-7'!D29 -> 15.1 | G17: =+F17 -> 15.1 | H17: =(D17-F17)/F17 -> 0.085807947 | I17: =(E17-G17)/G17 -> 0.085807947
A18: 4 | B18: Repairs and Maintenance | C18: Rs. In Crore | D18: =+'SHEET-7'!C24 -> 15.8853 | E18: =+D18 -> 15.8853 | F18: =+'SHEET-7'!D24 -> 10.63 | G18: =+F18 -> 10.63 | H18: =(D18-F18)/F18 -> 0.49438382 | I18: =(E18-G18)/G18 -> 0.49438382
A19: 5 | B19: Depreciation | C19: Rs. In Crore | D19: =+'SHEET-7'!C28 -> 70.3509 | E19: =+D19 -> 70.3509 | F19: =+'SHEET-7'!D28 -> 64.36 | G19: =+F19 -> 64.36 | H19: =(D19-F19)/F19 -> 0.093084214 | I19: =(E19-G19)/G19 -> 0.093084214
A20: 6 | B20: Admin. And General Expenditure | C20: Rs. In Crore | D20: =+'SHEET-7'!C25 -> 18.5407 | E20: =+D20 -> 18.5407 | F20: =+'SHEET-7'!D25 -> 17.53 | G20: =+F20 -> 17.53 | H20: =(D20-F20)/F20 -> 0.057655448 | I20: =(E20-G20)/G20 -> 0.057655448
A21: 6a | B21: Expenses Capitalized | C21: Rs. In Crore | D21: =+'SHEET-7'!C32 -> 0 | E21: =+D21 -> 0 | F21: =+'SHEET-7'!D32 -> 0 | G21: =+F21 -> 0 | H21: 0 | I21: 0
A22: 7 | B22: Other Debits & Prior Period Adjustment | C22: Rs. In Crore | D22: =+'SHEET-7'!C26 -> 3.7693 | E22: =+D22 -> 3.7693 | F22: =+'SHEET-7'!D26 -> 2.56 | G22: =+F22 -> 2.56 | H22: =(D22-F22)/F22 -> 0.47238281 | I22: =(E22-G22)/G22 -> 0.47238281
A23: 8 | B23: Total Cost Excluding Profit / Return | C23: Rs. In Crore | D23: =+SUM(D15:D22) -> 1603.7086 | E23: =+SUM(E15:E22) -> 1603.7086 | F23: =+SUM(F15:F22) -> 1849.75 | G23: =+SUM(G15:G22) -> 1849.75 | H23: =(D23-F23)/F23 -> -0.13301333 | I23: =(E23-G23)/G23 -> -0.13301333
A24: 9 | B24: Capital Expenditure | C24: Rs. In Crore | D24: 30.21 | E24: =+D24 -> 30.21 | F24: 41.82 | G24: =+F24 -> 41.82 | H24: =(D24-F24)/F24 -> -0.27761836 | I24: =(E24-G24)/G24 -> -0.27761836
A25: 10 | B25: New Long Term Borrowings | C25: Rs. In Crore | D25: 0 | E25: =+D25 -> 0 | F25: 0 | G25: =+F25 -> 0 | H25: 0 | I25: 0
A26: 11 | B26: Other Income | C26: Rs. In Crore | D26: =+'SHEET-7'!C14 -> 38.0076 | E26: =+D26 -> 38.0076 | F26: =+'SHEET-7'!D14 -> 37.45 | G26: =+F26 -> 37.45 | H26: =(D26-F26)/F26 -> 0.014889186 | I26: =(E26-G26)/G26 -> 0.014889186
A27: 12 | B27: C.C.drawl at the end of the Quarter | C27: Rs. In Crore | D27: 0 | E27: =+D27 -> 0 | F27: 0.019 | G27: =+F27 -> 0.019 | H27: =(D27-F27)/F27 -> -1 | I27: =(E27-G27)/G27 -> -1
A28: 13 | B28: Sales Amount [Without E. D.] [Incl. T.C/FCA] | C28: Rs. In Crore | D28: =+'SHEET-5'!D25 -> 1497.3391 | E28: =+'SHEET-5'!E25 -> 1497.3391 | F28: =+'SHEET-5'!F25 -> 1777.12 | G28: =+'SHEET-5'!G25 -> 1777.12 | H28: =(D28-F28)/F28 -> -0.15743501 | I28: =(E28-G28)/G28 -> -0.15743501
A29: 14 | B29: Agricultural Subsidy Received | C29: Rs. In Crore | D29: =+'SHEET-7'!C13 -> 15.6443 | E29: =+D29 -> 15.6443 | F29: =+'SHEET-7'!D13 -> 18.47 | G29: =+F29 -> 18.47 | H29: =(D29-F29)/F29 -> -0.15298863 | I29: =(E29-G29)/G29 -> -0.15298863
A30: 15 | B30: Misc. Revenue Related Recovery | C30: Rs. In Crore | D30: =+'SHEET-7'!C12 -> 31.0021 | E30: =+D30 -> 31.0021 | F30: =+'SHEET-7'!D12 -> 28.15 | G30: =+F30 -> 28.15 | H30: =(D30-F30)/F30 -> 0.10131794 | I30: =(E30-G30)/G30 -> 0.10131794
A31: 16 | B31: Total [7 to 13]
A32: 17 | B32: Cost of Power Purchase as % of Total Cost [1]/[8] | C32: % | D32: =D15/D23 -> 0.84608264 | E32: =E15/E23 -> 0.84608264 | F32: =F15/F23 -> 0.88006487 | G32: =G15/G23 -> 0.88006487 | H32: =D32-F32 -> -0.033982237 | I32: =E32-G32 -> -0.033982237
A37: NPT/GERC REPORT/APRIL, 2017 TO JUNE'2017
D52: =3+0.58+0.94 -> 4.52 | E52: 30066981 | F52: 5786401.8 | G52: 9381444.4 | H52: 87524122
E53: =E52/10^7 -> 3.0066981 | F53: =F52/10^7 -> 0.57864017 | G53: =G52/10^7 -> 0.93814444 | H53: =H52/10^7 -> 8.7524122
D61: 0.64
D62: =SUM(D59:D61) -> 0.64

Sheet SHEET-4
I2: [ 4]
A5: MADHYA GUJARAT VIJ COMPANY LIMITED
A7: III - SALES AND REVENUE DATA
A9: NOS. OF CONSUMERS AND UNIT SOLD
D11: Current Year | F11: Previous Year | H11: % Change
D12: Quarterly | E12: Cummulative | F12: Quarterly | G12: Cummulative | H12: Quarterly | I12: Cummulative
A13: [A] | B13: NOS. OF CONSUMERS [WITHOUT PDC] | D13: =+'SHEET-3'!D14:E14 -> April, 2020 to June, 2020 | F13: =+'SHEET-3'!F14:G14 -> April, 2019 to June, 2019
A14: 1 | B14: H. T. | C14: Nos. | D14: =2293+76 -> 2369 | E14: =D14 -> 2369 | F14: 2181 | G14: =F14 -> 2181 | H14: =(D14-F14)/F14 -> 0.086198991 | I14: =(E14-G14)/G14 -> 0.086198991
A15: 2 | B15: Railways | C15: Nos. | D15: 0 | E15: =D15 -> 0 | F15: 0 | G15: =F15 -> 0 | H15: =(D15-F15)/F15 -> #DIV/0! | I15: =(E15-G15)/G15 -> #DIV/0!
A16: 3 | B16: Liecence | C16: Nos. | D16: 0 | E16: =D16 -> 0 | F16: 0 | G16: =F16 -> 0 | H16: 0 | I16: 0
A17: 4 | B17: Total H.T. + E.H.T. | C17: Nos. | D17: =SUM(D14:D16) -> 2369 | E17: =SUM(E14:E16) -> 2369 | F17: =SUM(F14:F16) -> 2181 | G17: =SUM(G14:G16) -> 2181 | H17: =(D17-F17)/F17 -> 0.086198991 | I17: =(E17-G17)/G17 -> 0.086198991
A18: 5 | B18: Residential | C18: Nos. | D18: 2704832 | E18: =D18 -> 2704832 | F18: 2650387 | G18: =F18 -> 2650387 | H18: =(D18-F18)/F18 -> 0.020542283 | I18: =(E18-G18)/G18 -> 0.020542283
A19: 6 | B19: Commercial | C19: Nos. | D19: 366799 | E19: =D19 -> 366799 | F19: 346470 | G19: =F19 -> 346470 | H19: =(D19-F19)/F19 -> 0.058674633 | I19: =(E19-G19)/G19 -> 0.058674633
A20: 7 | B20: Industrial | C20: Nos.
A21: 8 | B21: Others [Water Works / Public Lighting] | C21: Nos. | D21: 24215 | E21: =D21 -> 24215 | F21: 31049 | G21: =F21 -> 31049 | H21: =(D21-F21)/F21 -> -0.22010371 | I21: =(E21-G21)/G21 -> -0.22010371
A22: 9 | B22: Total L.T. Excluding Agricultural | C22: Nos. | D22: =+SUM(D18:D21) -> 3095846 | E22: =D22 -> 3095846 | F22: =+SUM(F18:F21) -> 3027906 | G22: =F22 -> 3027906 | H22: =(D22-F22)/F22 -> 0.022437949 | I22: =(E22-G22)/G22 -> 0.022437949
A23: 10 | B23: Agricultural | C23: Nos. | D23: =182194+10 -> 182204 | E23: =D23 -> 182204 | F23: 169414 | G23: =F23 -> 169414 | H23: =(D23-F23)/F23 -> 0.075495532 | I23: =(E23-G23)/G23 -> 0.075495532
A24: 11 | B24: Total L. T. Including Agricultural | C24: Nos. | D24: =+D22+D23 -> 3278050 | E24: =D24 -> 3278050 | F24: =+F22+F23 -> 3197320 | G24: =F24 -> 3197320 | H24: =(D24-F24)/F24 -> 0.025249271 | I24: =(E24-G24)/G24 -> 0.025249271
A25: 12 | B25: Total H.T. + E.H.T. + L. T. [WITHOUT P.D.C.] | C25: Nos. | D25: =+D17+D24 -> 3280419 | E25: =D25 -> 3280419 | F25: =+F17+F24 -> 3199501 | G25: =F25 -> 3199501 | H25: =(D25-F25)/F25 -> 0.025290819 | I25: =(E25-G25)/G25 -> 0.025290819
A27: [B] | B27: NOS. OF UNITS SOLD
A29: 1 | B29: H. T. | C29: M.KWH | D29: 703.732 | E29: =+D29 -> 703.732 | F29: 1042.867 | G29: =+F29 -> 1042.867 | H29: =(D29-F29)/F29 -> -0.32519487 | I29: =(E29-G29)/G29 -> -0.32519487
A30: 2 | B30: Railways | C30: M.KWH | D30: 0 | E30: =+D30 -> 0 | F30: 0 | G30: =+F30 -> 0 | H30: =(D30-F30)/F30 -> #DIV/0! | I30: =(E30-G30)/G30 -> #DIV/0!
A31: 3 | B31: Liecence | C31: M.KWH | D31: 0 | E31: 0 | F31: 0 | G31: 0 | H31: 0 | I31: 0
A32: 4 | B32: Total H.T. + E.H.T. | C32: M.KWH | D32: =D29+D30 -> 703.732 | E32: =E29+E30 -> 703.732 | F32: =F29+F30 -> 1042.867 | G32: =G29+G30 -> 1042.867 | H32: =(D32-F32)/F32 -> -0.32519487 | I32: =(E32-G32)/G32 -> -0.32519487
A33: 5 | B33: Residential | C33: M.KWH | D33: 1008.665 | E33: =+D33 -> 1008.665 | F33: 867.771 | G33: =+F33 -> 867.771 | H33: =(D33-F33)/F33 -> 0.16236311 | I33: =(E33-G33)/G33 -> 0.16236311
A34: 6 | B34: Commercial | C34: M.KWH | D34: 305.494 | E34: =+D34 -> 305.494 | F34: 513.486 | G34: =+F34 -> 513.486 | H34: =(D34-F34)/F34 -> -0.40505876 | I34: =(E34-G34)/G34 -> -0.40505876
A35: 7 | B35: Industrial | C35: M.KWH
A36: 8 | B36: Others [Water Works / Public Lighting] | C36: M.KWH | D36: 84.411 | E36: =+D36 -> 84.411 | F36: 108.199 | G36: =+F36 -> 108.199 | H36: =(D36-F36)/F36 -> -0.21985416 | I36: =(E36-G36)/G36 -> -0.21985416
A37: 9 | B37: Total L.T. Excluding Agricultural | C37: M.KWH | D37: =SUM(D33:D36) -> 1398.57 | E37: =SUM(E33:E36) -> 1398.57 | F37: =SUM(F33:F36) -> 1489.456 | G37: =SUM(G33:G36) -> 1489.456 | H37: =(D37-F37)/F37 -> -0.061019594 | I37: =(E37-G37)/G37 -> -0.061019594
A38: 10 | B38: Agricultural [Metered + Unmetered] | C38: M.KWH | D38: 391.224 | E38: =+D38 -> 391.224 | F38: 379.55 | G38: =+F38 -> 379.55 | H38: =(D38-F38)/F38 -> 0.030757476 | I38: =(E38-G38)/G38 -> 0.030757476
A39: 11 | B39: Total L. T. Including Agricultural | C39: M.KWH | D39: =SUM(D37:D38) -> 1789.794 | E39: =SUM(E37:E38) -> 1789.794 | F39: =SUM(F37:F38) -> 1869.006 | G39: =SUM(G37:G38) -> 1869.006 | H39: =(D39-F39)/F39 -> -0.042381886 | I39: =(E39-G39)/G39 -> -0.042381886
A40: 12 | B40: Total H.T. + E.H.T. + L. T. | C40: M.KWH | D40: =D32+D39 -> 2493.526 | E40: =E32+E39 -> 2493.526 | F40: =F32+F39 -> 2911.873 | G40: =G32+G39 -> 2911.873 | H40: =(D40-F40)/F40 -> -0.14366938 | I40: =(E40-G40)/G40 -> -0.14366938
A43: NPT/GERC REPORT/APRIL, 2017 TO JUNE'2017
D52: 1639.71 | E52: 5096.36
D57: 335.74 | E57: 335.74 | F57: =D40-D52 -> 853.816
D58: 346.72 | E58: 346.72 | F58: =E40-E52 -> -2602.834
D59: =SUM(D57:D58) -> 682.46 | E59: =SUM(E57:E58) -> 682.46
D64: Q1 2014 | E64: Q1 2013
C65: Metered | D65: 153.2 | E65: 171.66 | F65: =(D65-E65)/E65 -> -0.10753816
C66: Unmetered | D66: 136.37 | E66: 136.62 | F66: =(D66-E66)/E66 -> -0.0018298931
...

Sheet SHEET-5
I2: [ 5 ]
A5: MADHYA GUJARAT VIJ COMPANY LIMITED
A7: III - SALES AND REVENUE DATA
A9: SALES REVENUE AMOUNT AND PAISE / UNIT
D11: Current Year | F11: Previous Years | H11: % Change
D12: Quarterly | E12: Cummulative | F12: Quarterly | G12: Cummulative | H12: Quarterly | I12: Cummulative
A13: [C] | B13: SALES REVENUE BILLED : | D13: =+'SHEET-4'!D13:E13 -> April, 2020 to June, 2020 | F13: =+'SHEET-4'!F13:G13 -> April, 2019 to June, 2019
A14: 1 | B14: H. T. | C14: Rs. In Crore | D14: 532.8825 | E14: =+D14 -> 532.8825 | F14: 734.47 | G14: =+F14 -> 734.47 | H14: =(D14-F14)/F14 -> -0.27446662 | I14: =(E14-G14)/G14 -> -0.27446662
A15: 2 | B15: Railway | C15: Rs. In Crore | D15: 0 | E15: 0 | F15: 0 | G15: 0 | H15: =(D15-F15)/F15 -> #DIV/0! | I15: =(E15-G15)/G15 -> #DIV/0!
A16: 3 | B16: Liecence | C16: Rs. In Crore | D16: 0 | E16: 0 | F16: 0 | G16: 0 | H16: 0 | I16: 0
A17: 4 | B17: Total H.T. + E.H.T. | C17: Rs. In Crore | D17: =SUM(D14:D16) -> 532.8825 | E17: =SUM(E14:E16) -> 532.8825 | F17: =SUM(F14:F16) -> 734.47 | G17: =SUM(G14:G16) -> 734.47 | H17: =(D17-F17)/F17 -> -0.27446662 | I17: =(E17-G17)/G17 -> -0.27446662
A18: 5 | B18: Residential | C18: Rs. In Crore | D18: 559.325 | E18: =+D18 -> 559.325 | F18: 499.33 | G18: =+F18 -> 499.33 | H18: =(D18-F18)/F18 -> 0.120151 | I18: =(E18-G18)/G18 -> 0.120151
A19: 6 | B19: Commercial | C19: Rs. In Crore | D19: 226.0343 | E19: =+D19 -> 226.0343 | F19: 369.45 | G19: =+F19 -> 369.45 | H19: =(D19-F19)/F19 -> -0.38818703 | I19: =(E19-G19)/G19 -> -0.38818703
A20: 7 | B20: Industrial | C20: Rs. In Crore
A21: 8 | B21: Others [Water Works / Public Lighting] | C21: Rs. In Crore | D21: 49.3816 | E21: =+D21 -> 49.3816 | F21: 62.23 | G21: =+F21 -> 62.23 | H21: =(D21-F21)/F21 -> -0.20646633 | I21: =(E21-G21)/G21 -> -0.20646633
A22: 9 | B22: Total L.T. Excluding Agricultural | C22: Rs. In Crore | D22: =SUM(D18:D21) -> 834.7409 | E22: =SUM(E18:E21) -> 834.7409 | F22: =SUM(F18:F21) -> 931.01 | G22: =SUM(G18:G21) -> 931.01 | H22: =(D22-F22)/F22 -> -0.10340286 | I22: =(E22-G22)/G22 -> -0.10340286
A23: 10 | B23: Agricultural [Including Tariff Comp.]/[FPPPA] | C23: Rs. In Crore | D23: 129.7157 | E23: =+D23 -> 129.7157 | F23: 111.64 | G23: =+F23 -> 111.64 | H23: =(D23-F23)/F23 -> 0.16191061 | I23: =(E23-G23)/G23 -> 0.16191061
A24: 11 | B24: Total L. T. Including Agricultural | C24: Rs. In Crore | D24: =SUM(D22:D23) -> 964.4566 | E24: =SUM(E22:E23) -> 964.4566 | F24: =SUM(F22:F23) -> 1042.65 | G24: =SUM(G22:G23) -> 1042.65 | H24: =(D24-F24)/F24 -> -0.074994869 | I24: =(E24-G24)/G24 -> -0.074994869
A25: 12 | B25: Total H.T. + E.H.T. + L. T. | C25: Rs. In Crore | D25: =D17+D24 -> 1497.3391 | E25: =E17+E24 -> 1497.3391 | F25: =F17+F24 -> 1777.12 | G25: =G17+G24 -> 1777.12 | H25: =(D25-F25)/F25 -> -0.15743501 | I25: =(E25-G25)/G25 -> -0.15743501
A27: [D] | B27: SALES REALISATION
A29: 1 | B29: H. T. | C29: Paise / kwh | D29: =D14/'SHEET-4'!D29*1000 -> 757.22363 | E29: =E14/'SHEET-4'!E29*1000 -> 757.22363 | F29: =F14/'SHEET-4'!F29*1000 -> 704.27964 | G29: =G14/'SHEET-4'!G29*1000 -> 704.27964 | H29: =(D29-F29)/F29 -> 0.075174665 | I29: =(E29-G29)/G29 -> 0.075174665 | N29: =(D14/'SHEET-4'!D29)*1000 -> 757.22363 | O29: =(E14/'SHEET-4'!E29)*1000 -> 757.22363 | P29: =(F14/'SHEET-4'!F29)*1000 -> 704.27964 | Q29: =(G14/'SHEET-4'!G29)*1000 -> 704.27964
A30: 2 | B30: Railway | C30: Paise / kwh | D30: 0 | E30: 0 | F30: 0 | G30: =F30 -> 0 | H30: =(D30-F30)/F30 -> #DIV/0! | I30: =(E30-G30)/G30 -> #DIV/0! | N30: =(D15/'SHEET-4'!D30)*1000 -> #DIV/0! | O30: =(E15/'SHEET-4'!E30)*1000 -> #DIV/0! | P30: =(F15/'SHEET-4'!F30)*1000 -> #DIV/0!
A31: 3 | B31: Liecence | C31: Paise / kwh | D31: 0 | E31: 0 | F31: 0 | G31: =F31 -> 0 | H31: 0 | I31: 0 | N31: =(D16/'SHEET-4'!D31)*1000 -> #DIV/0! | O31: =(E16/'SHEET-4'!E31)*1000 -> #DIV/0! | P31: =(F16/'SHEET-4'!F31)*1000 -> #DIV/0!
A32: 4 | B32: Total H.T. + E.H.T. | C32: Paise / kwh | D32: =D17/'SHEET-4'!D32*1000 -> 757.22363 | E32: =E17/'SHEET-4'!E32*1000 -> 757.22363 | F32: =F17/'SHEET-4'!F32*1000 -> 704.27964 | G32: =G17/'SHEET-4'!G32*1000 -> 704.27964 | H32: =(D32-F32)/F32 -> 0.075174665 | I32: =(E32-G32)/G32 -> 0.075174665 | N32: =(D17/'SHEET-4'!D32)*1000 -> 757.22363 | O32: =(E17/'SHEET-4'!E32)*1000 -> 757.22363 | P32: =(F17/'SHEET-4'!F32)*1000 -> 704.27964
A33: 5 | B33: Residential | C33: Paise / kwh | D33: =D18/'SHEET-4'!D33*1000 -> 554.52008 | E33: =E18/'SHEET-4'!E33*1000 -> 554.52008 | F33: =F18/'SHEET-4'!F33*1000 -> 575.41679 | G33: =G18/'SHEET-4'!G33*1000 -> 575.41679 | H33: =(D33-F33)/F33 -> -0.036315768 | I33: =(E33-G33)/G33 -> -0.036315768 | N33: =(D18/'SHEET-4'!D33)*1000 -> 554.52008 | O33: =(E18/'SHEET-4'!E33)*1000 -> 554.52008 | P33: =(F18/'SHEET-4'!F33)*1000 -> 575.41679
A34: 6 | B34: Commercial | C34: Paise / kwh | D34: =D19/'SHEET-4'!D34*1000 -> 739.89767 | E34: =E19/'SHEET-4'!E34*1000 -> 739.89767 | F34: =F19/'SHEET-4'!F34:F35*1000 -> 719.49381 | G34: =F34 -> 719.49381 | H34: =(D34-F34)/F34 -> 0.028358633 | I34: =(E34-G34)/G34 -> 0.028358633 | N34: =(D19/'SHEET-4'!D34)*1000 -> 739.89767 | O34: =(E19/'SHEET-4'!E34)*1000 -> 739.89767 | P34: =(F19/'SHEET-4'!F34)*1000 -> 719.49381
A35: 7 | B35: Industrial | C35: Paise / kwh | N35: =(D20/'SHEET-4'!D35)*1000 -> #DIV/0! | O35: =(E20/'SHEET-4'!E35)*1000 -> #DIV/0! | P35: =(F20/'SHEET-4'!F35)*1000 -> #DIV/0!
A36: 8 | B36: Others [Water Works / Public Lighting] | C36: Paise / kwh | D36: =D21/'SHEET-4'!D36*1000 -> 585.0138 | E36: =E21/'SHEET-4'!E36*1000 -> 585.0138 | F36: =F21/'SHEET-4'!F36*1000 -> 575.14395 | G36: =F36 -> 575.14395 | H36: =(D36-F36)/F36 -> 0.017160667 | I36: =(E36-G36)/G36 -> 0.017160667 | N36: =(D21/'SHEET-4'!D36)*1000 -> 585.0138 | O36: =(E21/'SHEET-4'!E36)*1000 -> 585.0138 | P36: =(F21/'SHEET-4'!F36)*1000 -> 575.14395
A37: 9 | B37: Total L.T. Excluding Agricultural | C37: Paise / kwh | D37: =D22/'SHEET-4'!D37*1000 -> 596.85314 | E37: =E22/'SHEET-4'!E37*1000 -> 596.85314 | F37: =F22/'SHEET-4'!F37*1000 -> 625.06714 | G37: =F37 -> 625.06714 | H37: =(D37-F37)/F37 -> -0.045137544 | I37: =(E37-G37)/G37 -> -0.045137544 | N37: =(D22/'SHEET-4'!D37)*1000 -> 596.85314 | O37: =(E22/'SHEET-4'!E37)*1000 -> 596.85314 | P37: =(F22/'SHEET-4'!F37)*1000 -> 625.06714
A38: 10 | B38: Agricultural | C38: Paise / kwh | D38: =D23/'SHEET-4'!D38*1000 -> 331.56376 | E38: =E23/'SHEET-4'!E38*1000 -> 331.56376 | F38: =F23/'SHEET-4'!F38*1000 -> 294.13779 | G38: =F38 -> 294.13779 | H38: =(D38-F38)/F38 -> 0.12723956 | I38: =(E38-G38)/G38 -> 0.12723956 | N38: =(D23/'SHEET-4'!D38)*1000 -> 331.56376 | O38: =(E23/'SHEET-4'!E38)*1000 -> 331.56376 | P38: =(F23/'SHEET-4'!F38)*1000 -> 294.13779
A39: 11 | B39: Total L. T. Including Agricultural | C39: Paise / kwh | D39: =D24/'SHEET-4'!D39*1000 -> 538.86458 | E39: =E24/'SHEET-4'!E39*1000 -> 538.86458 | F39: =F24/'SHEET-4'!F39*1000 -> 557.86338 | G39: =F39 -> 557.86338 | H39: =(D39-F39)/F39 -> -0.034056355 | I39: =(E39-G39)/G39 -> -0.034056355 | N39: =(D24/'SHEET-4'!D39)*1000 -> 538.86458 | O39: =(E24/'SHEET-4'!E39)*1000 -> 538.86458 | P39: =(F24/'SHEET-4'!F39)*1000 -> 557.86338
A40: 12 | B40: Total H.T. + E.H.T. + L. T. | C40: Paise / kwh | D40: =D25/'SHEET-4'!D40*1000 -> 600.49067 | E40: =E25/'SHEET-4'!E40*1000 -> 600.49067 | F40: =F25/'SHEET-4'!F40*1000 -> 610.30134 | G40: =F40 -> 610.30134 | H40: =(D40-F40)/F40 -> -0.016075127 | I40: =(E40-G40)/G40 -> -0.016075127 | N40: =(D25/'SHEET-4'!D40)*1000 -> 600.49067 | O40: =(E25/'SHEET-4'!E40)*1000 -> 600.49067 | P40: =(F25/'SHEET-4'!F40)*1000 -> 610.30134
A43: NPT/GERC REPORT/APRIL, 2017 TO JUNE'2017

Sheet SHEET-6
I2: [ 6 ]
A5: MADHYA GUJARAT VIJ COMPANY LIMITED
A7: III - SALES AND REVENUE DATA
A9: SALES REVENUE FIXED AND ENERGY CHARGE PAISE / UNIT AND UNITS SOLD PER CONSUMER
D11: Current Year | F11: Previous Year | H11: % Change
D12: Quarterly | E12: Cummulative | F12: Quarterly | G12: Cummulative | H12: Quarterly | I12: Cummulative
A13: [A] | B13: SALES REALISATION - FIXED CHARGES | D13: =+'SHEET-5'!D13:E13 -> April, 2020 to June, 2020 | F13: =+'SHEET-5'!F13:G13 -> April, 2019 to June, 2019
A14: 1 | B14: H. T. | C14: Paise / KWH | D14: 84.87906 | E14: =D14 -> 84.87906 | F14: 87.27 | G14: =F14 -> 87.27 | H14: =(D14-F14)/F14 -> -0.027397047 | I14: =(E14-G14)/G14 -> -0.027397047
A15: 2 | B15: Railway | C15: Paise / KWH | D15: 0 | E15: =D15 -> 0 | F15: 0 | G15: =F15 -> 0 | H15: =(D15-F15)/F15 -> #DIV/0! | I15: =(E15-G15)/G15 -> #DIV/0!
A16: 3 | B16: Liecence | C16: Paise / KWH | D16: 0 | E16: =D16 -> 0 | F16: 0 | G16: =F16 -> 0 | H16: 0 | I16: 0
A17: 4 | B17: Total H.T. + E.H.T. | C17: Paise / KWH | D17: =SUM(D14:D16) -> 84.87906 | E17: =D17 -> 84.87906 | F17: 81.989858 | G17: =F17 -> 81.989858 | H17: =(D17-F17)/F17 -> 0.035238528 | I17: =(E17-G17)/G17 -> 0.035238528
A18: 5 | B18: Residential | C18: Paise / KWH | D18: 17.985913 | E18: =D18 -> 17.985913 | F18: 19.324843 | G18: =F18 -> 19.324843 | H18: =(D18-F18)/F18 -> -0.069285419 | I18: =(E18-G18)/G18 -> -0.069285419
A19: 6 | B19: Commercial | C19: Paise / KWH | D19: 84.003392 | E19: =D19 -> 84.003392 | F19: 77.821006 | G19: =F19 -> 77.821006 | H19: =(D19-F19)/F19 -> 0.079443663 | I19: =(E19-G19)/G19 -> 0.079443663
A20: 7 | B20: Industrial | C20: Paise / KWH
A21: 8 | B21: Other [Specify] | C21: Paise / KWH | D21: 3.6705098 | E21: =D21 -> 3.6705098 | F21: 3.360343 | G21: =F21 -> 3.360343 | H21: =(D21-F21)/F21 -> 0.092302131 | I21: =(E21-G21)/G21 -> 0.092302131
A22: 9 | B22: Total L.T. Excluding Agricultural | C22: Paise / KWH | D22: 38.443958 | E22: =D22 -> 38.443958 | F22: 38.89 | G22: =F22 -> 38.89 | H22: =(D22-F22)/F22 -> -0.011469316 | I22: =(E22-G22)/G22 -> -0.011469316
A23: 10 | B23: Agricultural | C23: Paise / KWH | D23: 25.896769 | E23: =D23 -> 25.896769 | F23: 23.77 | G23: =F23 -> 23.77 | H23: =(D23-F23)/F23 -> 0.089472817 | I23: =(E23-G23)/G23 -> 0.089472817
A24: 11 | B24: Total L. T. Including Agricultural | C24: Paise / KWH | D24: 36.155669 | E24: =D24 -> 36.155669 | F24: 35.96 | G24: =F24 -> 35.96 | H24: =(D24-F24)/F24 -> 0.0054412885 | I24: =(E24-G24)/G24 -> 0.0054412885
A25: 12 | B25: Total H.T. + E.H.T. + L. T. | C25: Paise / KWH | D25: 60.277589 | E25: =D25 -> 60.277589 | F25: 61 | G25: =F25 -> 61 | H25: =(D25-F25)/F25 -> -0.011842802 | I25: =(E25-G25)/G25 -> -0.011842802
A27: [B] | B27: SALES REALISATION - ENERGY CHARGES
A29: 1 | B29: H. T. | C29: Paise / KWH | D29: 419.93797 | E29: =D29 -> 419.93797 | F29: 417.27 | G29: =F29 -> 417.27 | H29: =(D29-F29)/F29 -> 0.0063938583 | I29: =(E29-G29)/G29 -> 0.0063938583
A30: 2 | B30: Railway | C30: Paise / KWH | D30: 0 | E30: =D30 -> 0 | F30: 0 | G30: =F30 -> 0 | H30: =(D30-F30)/F30 -> #DIV/0! | I30: =(E30-G30)/G30 -> #DIV/0!
A31: 3 | B31: Liecence | C31: Paise / KWH | D31: 0 | E31: =D31 -> 0 | F31: 0 | G31: =F31 -> 0 | H31: 0 | I31: 0
A32: 4 | B32: Total H.T. + E.H.T. | C32: Paise / KWH | D32: =SUM(D29:D31) -> 419.93797 | E32: =D32 -> 419.93797 | F32: 417.27 | G32: =F32 -> 417.27 | H32: =(D32-F32)/F32 -> 0.0063938583 | I32: =(E32-G32)/G32 -> 0.0063938583
A33: 5 | B33: Residential | C33: Paise / KWH | D33: 362.10438 | E33: =D33 -> 362.10438 | F33: 392.97 | G33: =F33 -> 392.97 | H33: =(D33-F33)/F33 -> -0.078544462 | I33: =(E33-G33)/G33 -> -0.078544462
A34: 6 | B34: Commercial | C34: Paise / KWH | D34: 465.83322 | E34: =D34 -> 465.83322 | F34: 473.1 | G34: =F34 -> 473.1 | H34: =(D34-F34)/F34 -> -0.015359917 | I34: =(E34-G34)/G34 -> -0.015359917
A35: 7 | B35: Industrial | C35: Paise / KWH
A36: 8 | B36: Other [Specify] | C36: Paise / KWH | D36: 352.2727 | E36: =D36 -> 352.2727 | F36: 362.62 | G36: =F36 -> 362.62 | H36: =(D36-F36)/F36 -> -0.02853484 | I36: =(E36-G36)/G36 -> -0.02853484
A37: 9 | B37: Total L.T. Excluding Agricultural | C37: Paise / KWH | D37: 395.13594 | E37: =D37 -> 395.13594 | F37: 419.19 | G37: =F37 -> 419.19 | H37: =(D37-F37)/F37 -> -0.057382235 | I37: =(E37-G37)/G37 -> -0.057382235
A38: 10 | B38: Agricultural (Incl. Tariff Comp.) | C38: Paise / KWH | D38: 95.160172 | E38: =D38 -> 95.160172 | F38: 88.46 | G38: =F38 -> 88.46 | H38: =(D38-F38)/F38 -> 0.07574239 | I38: =(E38-G38)/G38 -> 0.07574239
A39: 11 | B39: Total L. T. Including Agricultural | C39: Paise / KWH | D39: 340.42796 | E39: =D39 -> 340.42796 | F39: 355.24 | G39: =F39 -> 355.24 | H39: =(D39-F39)/F39 -> -0.041695873 | I39: =(E39-G39)/G39 -> -0.041695873
B40: Total H.T. + E.H.T. + L. T. | C40: Paise / KWH | D40: 379.79168 | E40: =D40 -> 379.79168 | F40: 385.52 | G40: =F40 -> 385.52 | H40: =(D40-F40)/F40 -> -0.014858682 | I40: =(E40-G40)/G40 -> -0.014858682
A42: [C] | B42: UNIT SOLD PER CONSUMER
A44: 1 | B44: H. T. | C44: KWH | D44: ='SHEET-4'!D29/'SHEET-4'!D14*10^6 -> 297058.67 | E44: ='SHEET-4'!E29/'SHEET-4'!E14*10^6 -> 297058.67 | F44: ='SHEET-4'!F29/'SHEET-4'!F14*10^6 -> 478160.02 | G44: ='SHEET-4'!G29/'SHEET-4'!G14*10^6 -> 478160.02 | H44: =(D44-F44)/F44 -> -0.37874631 | I44: =(E44-G44)/G44 -> -0.37874631
A45: 2 | B45: Railway | C45: KWH | D45: 0 | E45: 0 | F45: 0 | G45: 0 | H45: =(D45-F45)/F45 -> #DIV/0! | I45: =(E45-G45)/G45 -> #DIV/0!
A46: 3 | B46: Liecence | C46: KWH | D46: 0 | E46: =D46 -> 0 | F46: 0 | G46: 0 | H46: 0 | I46: 0
A47: 4 | B47: Total H.T. + E.H.T. | C47: KWH | D47: ='SHEET-4'!D32/'SHEET-4'!D17*10^6 -> 297058.67 | E47: =D47 -> 297058.67 | F47: ='SHEET-4'!F32/'SHEET-4'!F17*10^6 -> 478160.02 | G47: ='SHEET-4'!G32/'SHEET-4'!G17*10^6 -> 478160.02 | H47: =(D47-F47)/F47 -> -0.37874631 | I47: =(E47-G47)/G47 -> -0.37874631
A48: 5 | B48: Residential | C48: KWH | D48: ='SHEET-4'!D33/'SHEET-4'!D18*10^6 -> 372.91225 | E48: =D48 -> 372.91225 | F48: ='SHEET-4'!F33/'SHEET-4'!F18*10^6 -> 327.41294 | G48: =F48 -> 327.41294 | H48: =(D48-F48)/F48 -> 0.13896615 | I48: =(E48-G48)/G48 -> 0.13896615
A49: 6 | B49: Commercial | C49: KWH | D49: ='SHEET-4'!D34/'SHEET-4'!D19*10^6 -> 832.86487 | E49: ='SHEET-4'!E34/'SHEET-4'!E19*10^6 -> 832.86487 | F49: ='SHEET-4'!F34/'SHEET-4'!F19*10^6 -> 1482.0504 | G49: =F49 -> 1482.0504 | H49: =(D49-F49)/F49 -> -0.43803202 | I49: =(E49-G49)/G49 -> -0.43803202
A50: 7 | B50: Industrial | C50: KWH
...

Sheet SHEET-7
E1: [7]
A4: MADHYA GUJARAT VIJ COMPANY LIMITED
A6: IV - FINANCIAL DATA
C8: Current Year [Provisional] | D8: Previous Year | E8: % Change
C9: April, 2020 to June, 2020 | D9: April, 2019 to June, 2019
A10: [A] | B10: REVENUE | C10: Rs. In Crores | D10: Rs. In Crores
A11: 1 | B11: Sale of Electricity | C11: 1497.3391 | D11: 1777.12 | E11: =(C11-D11)/D11 -> -0.15743501
A12: 2 | B12: Misc. Revenue Recovery | C12: 31.0021 | D12: 28.15 | E12: =(C12-D12)/D12 -> 0.10131794
A13: 3 | B13: Government Subsidy FOR AG. | C13: 15.6443 | D13: 18.47 | E13: =(C13-D13)/D13 -> -0.15298863
A14: 4 | B14: Other Income | C14: 38.0076 | D14: 37.45 | E14: =(C14-D14)/D14 -> 0.014889186
A15: 5 | B15: Total Income | C15: =SUM(C11:C14) -> 1581.9931 | D15: =SUM(D11:D14) -> 1861.19 | E15: =(C15-D15)/D15 -> -0.15000989
A17: [B] | B17: EXPENSES
B18: Operating Expenses
A19: 1 | B19: Power Purchase Costs net of trading Credit | C19: =1366.2037-9.3366 -> 1356.8671 | D19: 1627.9 | E19: =(C19-D19)/D19 -> -0.16649235
A20: 2 | B20: Fixed
A21: 3 | B21: Variable
A22: 4 | B22: Fuel Expense | C22: 0 | D22: 0 | E22: 0
A23: 5 | B23: Employee Cost | C23: 121.8967 | D23: 111.67 | E23: =(C23-D23)/D23 -> 0.091579654
A24: 6 | B24: Repairs and Maintenance | C24: 15.8853 | D24: 10.63 | E24: =(C24-D24)/D24 -> 0.49438382
A25: 7 | B25: Administrative and General Expenses | C25: 18.5407 | D25: 17.53 | E25: =(C25-D25)/D25 -> 0.057655448
A26: 8 | B26: Other Operating Costs | C26: 3.7693 | D26: 2.56 | E26: =(C26-D26)/D26 -> 0.47238281
A28: 9 | B28: Depreciation | C28: 70.3509 | D28: 64.36 | E28: =(C28-D28)/D28 -> 0.093084214
A29: 10 | B29: Interest | C29: 16.3957 | D29: 15.1 | E29: =(C29-D29)/D29 -> 0.085807947
A30: 11 | B30: Other Expenses [Prior Period] | C30: 0 | D30: 0
A31: 12 | B31: Misc. If any | C31: 0 | D31: 0 | E31: 0
A32: 13 | B32: Less : Expenses Capitalized | C32: 0 | D32: 0
A33: 14 | B33: Total Expenses 1 to 13] | C33: =SUM(C19:C32) -> 1603.7057 | D33: =SUM(D19:D32) -> 1849.75 | E33: =(C33-D33)/D33 -> -0.13301489
A35: [C] | B35: Surplus [deficit] excluding rate of return | C35: =C15-C33 -> -21.7126 | D35: =D15-D33 -> 11.44 | E35: =(C35-D35)/D35 -> -2.8979545
A37: NOTE : Power Purchase Cost is based on provisional bills received from GUVNL.
A40: NPT/GERC REPORT/APRIL, 2017 TO JUNE'2017
C44: =C19/'SHEET-1'!D26 -> 0.45575046 | D44: =D19/'SHEET-1'!F26 -> 0.45566063
C49: =C33/'SHEET-1'!D27*10 -> 6.4314752 | D49: =D33/'SHEET-1'!F27 -> 0.63524471

Sheet Sheet1
A1: SR | B1: CATEGORY | C1: BOARD CHARGE | D1: B. CHG(THEFT) | E1: MIN CHG DIS. | F1: ELE. DUTY | G1: TAX ON SALE | H1: RENT | I1: SUNDRY CHG. | J1: D. P. C. | K1: ASSESSMENT
A2: =========================================================================================================================================
A3: 1 | B3: Residential | C3: 3.1160693e+09 | D3: 17043897 | E3: 172650.77 | F3: 3.4360099e+08 | G3: 0 | H3: 73554896 | I3: 227109.15 | J3: 18633312 | K3: 3.5693021e+09
A4: 2 | B4: General Lighting Purpose | C4: 71089140 | D4: 101753.87 | E4: 17040 | F4: 7364652.5 | G4: 0 | H4: 748929.5 | I4: 23532.4 | J4: 453786.14 | K4: 79798834
A5: 3 | B5: Manufacturing & Service Industries | C5: 2.1273928e+09 | D5: 10987310 | E5: 55383.85 | F5: 3.3524209e+08 | G5: 0 | H5: 15904544 | I5: 285434.14 | J5: 5771228.1 | K5: 2.4956387e+09
B6: TEMP | C6: 78023457 | D6: 0 | E6: 0 | F6: 19271785 | G6: 0 | H6: 469841 | I6: 303675.78 | J6: 245968.69 | K6: 98314728
B7: TOTAL | C7: 2.2054162e+09 | D7: 10987310 | E7: 55383.85 | F7: 3.5451387e+08 | G7: 0 | H7: 16374385 | I7: 589109.92 | J7: 6017196.8 | K7: 2.5939535e+09
A8: 4 | B8: Water Works | C8: 2.2913085e+08 | D8: 7024.2 | E8: 360 | F8: 3568735.5 | G8: 0 | H8: 1043824 | I8: 84685 | J8: 38964480 | K8: 2.7279996e+08
A9: 5 | B9: Agricultural | C9: 2.248283e+08 | D9: 1100948.8 | E9: 69162.01 | F9: 32851.34 | G9: 0 | H9: 6727882.5 | I9: 96521.78 | J9: 1507359.2 | K9: 2.3436303e+08
A10: 6 | B10: Street Light | C10: 93088769 | D10: 0 | E10: 0 | F10: 833815.28 | G10: 0 | H10: 302109.5 | I10: 89765.18 | J10: 4559629.6 | K10: 98874088
A11: 7 | B11: PDC | C11: 2188369.9 | D11: 52177.62 | E11: 0 | F11: 239472.02 | G11: 0 | H11: 183965.5 | I11: 10954.81 | J11: 1881544.9 | K11: 4556484.7
A12: 8 | B12: UNCONNECTED | C12: 1346751 | D12: 29611.2 | E12: 0 | F12: 0 | G12: 0 | H12: 0 | I12: 0 | J12: 12750.19 | K12: 1389112.4
A13: 9 | B13: NON-CONS | C13: 0 | D13: 3642101.8 | E13: 0 | F13: 384932.08 | G13: 0 | H13: 0 | I13: 46327.9 | J13: 55.4 | K13: 4073417.1
A14: 10 | B14: TOT(NORMAL) | C14: 5.8615991e+09 | D14: 29240934 | E14: 314596.63 | F14: 6.9064313e+08 | G14: 0 | H14: 98282186 | I14: 807047.65 | J14: 69889795 | K14: 6.7507768e+09
A15: 11 | B15: TOT(PCD+UC) | C15: 3535120.9 | D15: 81788.82 | E15: 0 | F15: 239472.02 | G15: 0 | H15: 183965.5 | I15: 10954.81 | J15: 1894295.1 | K15: 5945597.1
A16: 12 | B16: TOT(TEMP+NON) | C16: 78023457 | D16: 3642101.8 | E16: 0 | F16: 19656717 | G16: 0 | H16: 469841 | I16: 350003.68 | J16: 246024.09 | K16: 1.0238815e+08
A17: 13 | B17: GRAND TOTAL | C17: 5.9431577e+09 | D17: 32964824 | E17: 314596.63 | F17: 7.1053932e+08 | G17: 0 | H17: 98935992 | I17: 1168006.1 | J17: 72030114 | K17: 6.8591105e+09
A18: =========================================================================================================================================
A19: BREAK-UP OF BOARD CHARGES FROM Apr-2014 TO Jun-2014
A20: =========================================================================================================================================
A21: SR | B21: CATEGORY | C21: CONSUMERS | D21: UNITS BILLED | E21: FIXED-CHRG | F21: ENEG-CHRG | G21: FUEL-COST | H21: ANNUAL-CHG | I21: PRO-BILL | J21: DEBIT-ADJ | K21: BOARD-CHG
A22: =========================================================================================================================================
A23: 1 | B23: Residential | C23: 1178560 | D23: 547896815 | E23: 1.0893635e+08 | F23: 2.2777783e+09 | G23: 6.988271e+08 | H23: 0 | I23: 23878038 | J23: 6649459.7 | K23: 3.1160693e+09
A24: 2 | B24: General Lighting Purpose | C24: 10324 | D24: 12238984 | E24: 3352066 | F24: 49361467 | G24: 14977588 | H24: 0 | I24: 3186689.2 | J24: 211329.99 | K24: 71089140
A25: 3 | B25: Manufacturing & Service Industries | C25: 141223 | D25: 308942121 | E25: 2.0981632e+08 | F25: 1.5067713e+09 | G25: 3.8397436e+08 | H25: 243868.04 | I25: 12422367 | J25: 14164516 | K25: 2.1273928e+09
B26: TEMP | C26: 4704 | D26: 8930434 | E26: 26180159 | F26: 41354592 | G26: 10417809 | H26: 0 | I26: 0 | J26: 70898.07 | K26: 78023457
B27: TOTAL | C27: 145927 | D27: 317872555 | E27: 2.3599648e+08 | F27: 1.5481259e+09 | G27: 3.9439217e+08 | H27: 243868.04 | I27: 12422367 | J27: 14235414 | K27: 2.2054162e+09
A28: 4 | B28: Water Works | C28: 8003 | D28: 48527153 | E28: 1355207.1 | F28: 1.6440131e+08 | G28: 58237666 | H28: 0 | I28: 2690678.8 | J28: 2445989 | K28: 2.2913085e+08
A29: 5 | B29: Agricultural | C29: 64962 | D29: 168792969 | E29: 32021769 | F29: 1.8627927e+08 | G29: 0 | H29: 0 | I29: 5083644.2 | J29: 1443616.6 | K29: 2.248283e+08
A30: 6 | B30: Street Light | C30: 4333 | D30: 15223858 | E30: 212629.18 | F30: 71319701 | G30: 20672610 | H30: 0 | I30: 303088.92 | J30: 580739.07 | K30: 93088769
A31: 7 | B31: PDC | C31: 75006 | D31: 254352 | E31: 0 | F31: 0 | G31: 0 | H31: 0 | I31: 0 | J31: 2188369.9 | K31: 2188369.9
A32: 8 | B32: UNCONNECTED | C32: 2231 | D32: 0 | E32: 1316135.1 | F32: 5130 | G32: 0 | H32: 0 | I32: 0 | J32: 25485.9 | K32: 1346751
A33: 9 | B33: NON-CONS | C33: 255 | D33: 740096 | E33: 0 | F33: 0 | G33: 0 | H33: 0 | I33: 0 | J33: 0 | K33: 0
A34: 10 | B34: TOT(NORMAL) | C34: 1407405 | D34: 1101621900 | E34: 3.5569434e+08 | F34: 4.2559114e+09 | G34: 1.1766893e+09 | H34: 243868.04 | I34: 47564507 | J34: 25495650 | K34: 5.8615991e+09
A35: 11 | B35: TOT(PDC+UN) | C35: 77237 | D35: 254352 | E35: 1316135.1 | F35: 5130 | G35: 0 | H35: 0 | I35: 0 | J35: 2213855.8 | K35: 3535120.9
A36: 12 | B36: TOT(TEMP+NON) | C36: 4959 | D36: 9670530 | E36: 26180159 | F36: 41354592 | G36: 10417809 | H36: 0 | I36: 0 | J36: 70898.07 | K36: 78023457
A37: 13 | B37: GRAND TOTAL | C37: 1489601 | D37: 1111546782 | E37: 3.8319064e+08 | F37: 4.2972711e+09 | G37: 1.1871071e+09 | H37: 243868.04 | I37: 47564507 | J37: 27780404 | K37: 5.9431577e+09
A38: =========================================================================================================================================
A41: LT C. G. L. FROM Apr-2014 TO Jun-2014
A42: LAST MONTH END DATE : 30-06-2014 | E42: PERIOD: Apr-2014 TO Jun-2014 | I42: PROCESSED ON: 18-Dec-2014
...

Sheet T&D
B1: V - DISTRIBUTION - KEY DATA
B3: Action plan for reducing T & D losses in Urban, Industrial and GIDC feeders
B4: Category | C4: Circle | D4: Q-I- Apr-20 to Jun-20 | H4: Q-I- Apr-19 to Jun-19 | K4: Nos of feeders having more than 5% where losses increased in current period | L4: Reason thereof and action being taken
D5: Total nos. of feeders | E5: Nos. of feeders having losses more than 5 % | F5: Overall % losses | H5: Total nos. of feeders | I5: Nos. of feeders having losses more than 5 % | J5: Overall % losses
B6: GIDC | C6: Baroda OM | D6: 32 | E6: 20+1* | F6: 6.2152814 | H6: 32 | I6: 1 | J6: 1.1714087 | K6: 1 | L6: Various steps are being taken to reduce the losses of feeder having high losses
C7: Baroda City | D7: 16 | E7: 0 | F7: -19.983326 | H7: 16 | I7: 0 | J7: 2.3965543 | K7: 0
C8: Anand | D8: 17 | E8: 3 | F8: -6.0169736 | H8: 17 | I8: 0 | J8: 1.8872026 | K8: 0
C9: Nadiad | D9: 1 | E9: 0 | F9: -0.44061402 | H9: 1 | I9: 0 | J9: 1.0987896 | K9: 0
C10: Godhra | D10: 16 | E10: 1 | F10: -8.902848 | H10: 16 | I10: 0 | J10: -3.6942583 | K10: 0
C11: Total | D11: =SUM(D6:D10) -> 82 | E11: 24+1* | F11: -0.12123317 | H11: 82 | I11: 1 | J11: 0.47317477 | K11: =SUM(K6:K10) -> 1
D12: *Newly created feeders
B13: Category | C13: Circle | D13: =D4 -> Q-I- Apr-20 to Jun-20 | H13: =H4 -> Q-I- Apr-19 to Jun-19 | K13: Nos of feeders having more than 25% where losses increased in current period | L13: Reason thereof and action being taken
D14: Total nos. of feeders | E14: Nos. of feeders having losses more than 25 % | F14: Overall % losses | H14: Total nos. of feeders | I14: Nos. of feeders having losses more than 25 % | J14: Overall % losses
B15: URBAN | C15: Baroda OM | D15: 19 | E15: 4 | F15: 3.834962 | H15: 19 | I15: 3 | J15: 9.9812683 | K15: 2 | L15: Various steps are being taken to reduce the losses of feeder having high losses
C16: Baroda City | D16: 251 | E16: 48+1* | F16: 9.4567727 | H16: 247 | I16: 52 | J16: 14.447427 | K16: 16
C17: Anand | D17: 46 | E17: 19 | F17: 9.8082532 | H17: 49 | I17: 12+4* | J17: 12.633348 | K17: 9
C18: Nadiad | D18: 36 | E18: 12 | F18: 11.787039 | H18: 35 | I18: 15 | J18: 16.044279 | K18: 8
C19: Godhra | D19: 45 | E19: 19 | F19: 21.172517 | H19: 44 | I19: 15+2* | J19: 24.855272 | K19: 10
C20: Total | D20: =SUM(D15:D19) -> 397 | E20: 102+1* | F20: 6.637023 | H20: 394 | I20: 97+6* | J20: 15.423163 | K20: =SUM(K15:K19) -> 45
D21: *Newly created feeders | H21: *Newly created feeders
B22: Category | C22: Circle | D22: =D13 -> Q-I- Apr-20 to Jun-20 | H22: =H13 -> Q-I- Apr-19 to Jun-19 | K22: Nos of feeders having more than 10% where losses increased in current period | L22: Reason thereof and action being taken
D23: Total nos. of feeders | E23: Nos. of feeders having losses more than 10 % | F23: Overall % losses | H23: Total nos. of feeders | I23: Nos. of feeders having losses more than 10 % | J23: Overall % losses
B24: IND | C24: Baroda OM | D24: 53 | E24: 12+3* | F24: 6.1574652 | H24: 50 | I24: 1* | J24: 2.0376312 | K24: 0
C25: Baroda City | D25: 3 | E25: 0 | F25: -16.737506 | H25: 3 | I25: 0 | J25: 0.75524544 | K25: 0
C26: Anand | D26: 5 | E26: 1 | F26: 2.8679462 | H26: 5 | I26: 0 | J26: 1.9665486 | K26: 0
C27: Nadiad | D27: 12 | E27: 3 | F27: 6.7657267 | H27: 11 | I27: 0 | J27: 2.2755484 | K27: 0
C28: Godhra | D28: 38 | E28: 8+1* | F28: -4.9991132 | H28: 36 | I28: 1 | J28: 1.9769744 | K28: 0
C29: Total | D29: =SUM(D24:D28) -> 111 | E29: 24+4* | F29: 0.6859588 | H29: 105 | I29: 1+1* | J29: 2.0051616 | K29: =SUM(K24:K28) -> 0
D30: *Newly created feeders | H30: *Newly created feeders

Sheet LAB
C1: V - DISTRIBUTION - KEY DATA | J1: FY 2020-21 Q-I (Apr-May-Jun-20)
C2: Meter testing and details of non-working defective meters
C3: (A) | D3: Meter testing | F3: Total capacity of laboratory | G3: Tested during the period | I3: Pending for testing at the end of the period
D4: Single Phase | E4: No. | G4: 50514 | I4: 127599
D5: Three Phase | E5: No. | G5: 9130 | I5: 11886
D6: Total | E6: No. | G6: =SUM(G4:G5) -> 59644 | I6: =SUM(I4:I5) -> 139485
C7: (B) | D7: Non-working/ Defective meters | F7: Detected - op.balance | G7: Added | H7: Total to be attended | I7: Replaced / repaired | J7: Pending at the end of the period
D8: Single Phase | E8: No. | F8: 1272 | G8: 3723 | H8: =F8+G8 -> 4995 | I8: 3445 | J8: =H8-I8 -> 1550
D9: Three Phase | E9: No. | F9: 428 | G9: 925 | H9: =F9+G9 -> 1353 | I9: 785 | J9: =H9-I9 -> 568
D10: Total | E10: No. | F10: =F8+F9 -> 1700 | G10: =G8+G9 -> 4648 | H10: =SUM(H8:H9) -> 6348 | I10: =SUM(I8:I9) -> 4230 | J10: =SUM(J8:J9) -> 2118
C11: Since the nos. of pending untested meters are normally quite high, action being taken by DISCOMs to increase the nos. of test benches at various locations so that almost nil outstanding balance should accrue.
